BEGIN:VCALENDAR
VERSION:2.0
PRODID:-//L05 Kalender-System//DE
X-WR-CALNAME:DARC L05 Essen
X-WR-TIMEZONE:Europe/Berlin
CALSCALE:GREGORIAN
METHOD:PUBLISH
BEGIN:VEVENT
UID:l05-158-1@kalender.dl2tt.de
DTSTAMP:20260423T133125Z
CREATED:20260404T165452Z
LAST-MODIFIED:20260404T165452Z
DTSTART;VALUE=DATE:20260101
DTEND;VALUE=DATE:20260102
SUMMARY:Neujahrstag
DESCRIPTION:http://feiertagskalender.org/de/feiertage/de-nw/2026/
END:VEVENT
BEGIN:VEVENT
UID:l05-159-1@kalender.dl2tt.de
DTSTAMP:20260423T133125Z
CREATED:20260404T165452Z
LAST-MODIFIED:20260404T165452Z
DTSTART;VALUE=DATE:20260403
DTEND;VALUE=DATE:20260404
SUMMARY:Karfreitag
DESCRIPTION:http://feiertagskalender.org/de/feiertage/de-nw/2026/
END:VEVENT
BEGIN:VEVENT
UID:l05-151-1@kalender.dl2tt.de
DTSTAMP:20260423T133125Z
CREATED:20260404T144714Z
LAST-MODIFIED:20260405T105930Z
DTSTART;TZID=Europe/Berlin:20260403T190000
DTEND;TZID=Europe/Berlin:20260404T193000
SUMMARY:L05 trifft sich auf Funk
DESCRIPTION:L05 trifft sich auf Funk
CATEGORIES:Allgemein
RRULE:FREQ=WEEKLY;UNTIL=20260626T235959Z
END:VEVENT
BEGIN:VEVENT
UID:l05-160-1@kalender.dl2tt.de
DTSTAMP:20260423T133125Z
CREATED:20260404T165452Z
LAST-MODIFIED:20260404T165452Z
DTSTART;VALUE=DATE:20260406
DTEND;VALUE=DATE:20260407
SUMMARY:Ostermontag
DESCRIPTION:http://feiertagskalender.org/de/feiertage/de-nw/2026/
END:VEVENT
BEGIN:VEVENT
UID:l05-152-1@kalender.dl2tt.de
DTSTAMP:20260423T133125Z
CREATED:20260404T144828Z
LAST-MODIFIED:20260404T144828Z
DTSTART;TZID=Europe/Berlin:20260413T193000
DTEND;TZID=Europe/Berlin:20260413T210000
SUMMARY:OV-Abend
DESCRIPTION:Gäste willkommen
CATEGORIES:Allgemein
END:VEVENT
BEGIN:VEVENT
UID:l05-154-1@kalender.dl2tt.de
DTSTAMP:20260423T133125Z
CREATED:20260404T163516Z
LAST-MODIFIED:20260405T144719Z
DTSTART;TZID=Europe/Berlin:20260416T133000
DTEND;TZID=Europe/Berlin:20260416T153000
SUMMARY:Elektronik AG im Grashof Gym durch AJW L05
CATEGORIES:Technik
RRULE:FREQ=WEEKLY;INTERVAL=2;UNTIL=20260513T235959Z
END:VEVENT
BEGIN:VEVENT
UID:l05-157-1@kalender.dl2tt.de
DTSTAMP:20260423T133125Z
CREATED:20260404T164227Z
LAST-MODIFIED:20260404T164227Z
DTSTART;TZID=Europe/Berlin:20260416T133000
DTEND;TZID=Europe/Berlin:20260416T153000
SUMMARY:EWS I/II/III AG Grashof (AJW OV L05)
RRULE:FREQ=WEEKLY;UNTIL=20260520T235959Z
END:VEVENT
BEGIN:VEVENT
UID:l05-156-1@kalender.dl2tt.de
DTSTAMP:20260423T133125Z
CREATED:20260404T164041Z
LAST-MODIFIED:20260404T164041Z
DTSTART;VALUE=DATE:20260425
DTEND;VALUE=DATE:20260426
SUMMARY:Funktag Kassel
CATEGORIES:Allgemein
END:VEVENT
BEGIN:VEVENT
UID:l05-155-1@kalender.dl2tt.de
DTSTAMP:20260423T133125Z
CREATED:20260404T163958Z
LAST-MODIFIED:20260404T163958Z
DTSTART;TZID=Europe/Berlin:20260425T140000
DTEND;TZID=Europe/Berlin:20260425T170000
SUMMARY:Foxoring im Essener Stadtwald
DESCRIPTION:Wer findet die Füchse?
URL:https://www.vdi.de/mitgliedschaft/veranstaltungen/detail/foxoring-im-es
 sener-stadtwald-wer-findet-die-fuechse
CATEGORIES:Technik
END:VEVENT
BEGIN:VEVENT
UID:l05-161-1@kalender.dl2tt.de
DTSTAMP:20260423T133125Z
CREATED:20260404T165452Z
LAST-MODIFIED:20260404T165452Z
DTSTART;VALUE=DATE:20260501
DTEND;VALUE=DATE:20260502
SUMMARY:Tag der Arbeit
DESCRIPTION:http://feiertagskalender.org/de/feiertage/de-nw/2026/
END:VEVENT
BEGIN:VEVENT
UID:l05-162-1@kalender.dl2tt.de
DTSTAMP:20260423T133125Z
CREATED:20260404T165452Z
LAST-MODIFIED:20260404T165452Z
DTSTART;VALUE=DATE:20260514
DTEND;VALUE=DATE:20260515
SUMMARY:Christi Himmelfahrt
DESCRIPTION:http://feiertagskalender.org/de/feiertage/de-nw/2026/
END:VEVENT
BEGIN:VEVENT
UID:l05-163-1@kalender.dl2tt.de
DTSTAMP:20260423T133125Z
CREATED:20260404T165452Z
LAST-MODIFIED:20260404T165452Z
DTSTART;VALUE=DATE:20260525
DTEND;VALUE=DATE:20260526
SUMMARY:Pfingstmontag
DESCRIPTION:http://feiertagskalender.org/de/feiertage/de-nw/2026/
END:VEVENT
BEGIN:VEVENT
UID:l05-164-1@kalender.dl2tt.de
DTSTAMP:20260423T133125Z
CREATED:20260404T165452Z
LAST-MODIFIED:20260404T165452Z
DTSTART;VALUE=DATE:20260604
DTEND;VALUE=DATE:20260605
SUMMARY:Fronleichnam
DESCRIPTION:http://feiertagskalender.org/de/feiertage/de-nw/2026/
END:VEVENT
BEGIN:VEVENT
UID:l05-165-1@kalender.dl2tt.de
DTSTAMP:20260423T133125Z
CREATED:20260404T165452Z
LAST-MODIFIED:20260404T165452Z
DTSTART;VALUE=DATE:20261003
DTEND;VALUE=DATE:20261004
SUMMARY:Tag der Deutschen Einheit
DESCRIPTION:http://feiertagskalender.org/de/feiertage/de-nw/2026/
END:VEVENT
BEGIN:VEVENT
UID:l05-166-1@kalender.dl2tt.de
DTSTAMP:20260423T133125Z
CREATED:20260404T165452Z
LAST-MODIFIED:20260404T165452Z
DTSTART;VALUE=DATE:20261101
DTEND;VALUE=DATE:20261102
SUMMARY:Allerheiligen
DESCRIPTION:http://feiertagskalender.org/de/feiertage/de-nw/2026/
END:VEVENT
BEGIN:VEVENT
UID:l05-167-1@kalender.dl2tt.de
DTSTAMP:20260423T133125Z
CREATED:20260404T165452Z
LAST-MODIFIED:20260404T165452Z
DTSTART;VALUE=DATE:20261225
DTEND;VALUE=DATE:20261226
SUMMARY:1. Weihnachtstag
DESCRIPTION:http://feiertagskalender.org/de/feiertage/de-nw/2026/
END:VEVENT
BEGIN:VEVENT
UID:l05-168-1@kalender.dl2tt.de
DTSTAMP:20260423T133125Z
CREATED:20260404T165452Z
LAST-MODIFIED:20260404T165452Z
DTSTART;VALUE=DATE:20261226
DTEND;VALUE=DATE:20261227
SUMMARY:2. Weihnachtstag
DESCRIPTION:http://feiertagskalender.org/de/feiertage/de-nw/2026/
END:VEVENT
END:VCALENDAR
